BEGIN:VCALENDAR
VERSION:2.0
PRODID:-//LIP - Ligue d&#039;improvisation professionnelle Wallonie-Bruxelles - ECPv4.6.26//NONSGML v1.0//EN
CALSCALE:GREGORIAN
METHOD:PUBLISH
X-WR-CALNAME:LIP - Ligue d&#039;improvisation professionnelle Wallonie-Bruxelles
X-ORIGINAL-URL:https://impro-lip.be
X-WR-CALDESC:Évènements pour LIP - Ligue d&#039;improvisation professionnelle Wallonie-Bruxelles
BEGIN:VEVENT
DTSTART;TZID=Europe/Paris:20240506T150000
DTEND;TZID=Europe/Paris:20240506T163000
DTSTAMP:20260423T093729
CREATED:20230901T100056Z
LAST-MODIFIED:20240222T094529Z
UID:18189-1715007600-1715013000@impro-lip.be
SUMMARY:IMPRO KIDS - Mercelis
DESCRIPTION:Des comédien.ne.s\, ton dessin\, des histoires ! \n Impro Kids propose de laisser la part belle aux esprits imaginatifs en quelques coups de crayons : Et si les enfants avaient leur mot à dire et apportaient le jour du spectacle un dessin préparé spécialement pour l’occasion ? Les dessins\, piochés au hasard\, permettront aux comédien.ne.s de mettre en mots et en images les histoires les plus improbables. La particularité de toutes ces histoires\, c’est qu’elles n’existent pas encore\, elles n’attendent plus que vous ! \nAvec le spectacle “Impro Kids”\, la LIP vous propose un voyage touchant\, drôle\, interactif\, poétique\, visuel et musical. Un moment hors du temps qui plaira aux petit.e.s comme aux grand.e.s. \nTARIF : 8€ \nRÉSERVATIONS : \nRÉSERVEZ VOS PLACES\nDistribution : À venir \n\n2.13.0.0\n
URL:https://impro-lip.be/evenement/impro-kid-2024-3-2/
LOCATION:Théâtre Mercelis\, Rue Mercelis 13\, Ixelles\, 1050\, Belgique
CATEGORIES:Spectacle,Tout public
ATTACH;FMTTYPE=image/jpeg:https://impro-lip.be/wp-content/uploads/2022/10/Event-Enfants-2022.jpg
ORGANIZER;CN="Ligue%20d%27Improvisation%20Professionnelle%20Wallonie-Bruxelles":MAILTO:info@impro-lip.be
END:VEVENT
END:VCALENDAR